BEGIN:VCALENDAR
VERSION:2.0
PRODID:-//Confederates from Iowa: - ECPv6.15.20//NONSGML v1.0//EN
CALSCALE:GREGORIAN
METHOD:PUBLISH
X-ORIGINAL-URL:https://www.confederatesfromiowa.com
X-WR-CALDESC:Events for Confederates from Iowa:
REFRESH-INTERVAL;VALUE=DURATION:PT1H
X-Robots-Tag:noindex
X-PUBLISHED-TTL:PT1H
BEGIN:VTIMEZONE
TZID:UTC
BEGIN:STANDARD
TZOFFSETFROM:+0000
TZOFFSETTO:+0000
TZNAME:UTC
DTSTART:20180101T000000
END:STANDARD
END:VTIMEZONE
BEGIN:VEVENT
DTSTART;TZID=UTC:20240618T100000
DTEND;TZID=UTC:20240618T113000
DTSTAMP:20260423T164059
CREATED:20240616T015737Z
LAST-MODIFIED:20240616T015737Z
UID:1860-1718704800-1718710200@www.confederatesfromiowa.com
SUMMARY:
DESCRIPTION:I invite you to hear me speak about “Iowans Who Fought Against the Union” this Tuesday\, June 18 at 10 a.m. at the Adel Public Library\, 303 South 10th Street Adel IA. Afterwards\, I plan to sign copies of my book\, Iowa Confederates in the Civil War.
URL:https://www.confederatesfromiowa.com/events/1860/
LOCATION:Adel Public Library\, 303 South 10th Street\, Adel\, IA\, 50003\, United States
CATEGORIES:Book Signing,PowerPoint Presentation
END:VEVENT
BEGIN:VEVENT
DTSTART;TZID=UTC:20200222T090000
DTEND;TZID=UTC:20200222T160000
DTSTAMP:20260423T164059
CREATED:20200118T210427Z
LAST-MODIFIED:20200118T210427Z
UID:1462-1582362000-1582387200@www.confederatesfromiowa.com
SUMMARY:History Camp Iowa -- Des Moines
DESCRIPTION:I have documented 76 Iowa residents who left our state and served the Confederacy.  I will tell two stories from Iowa Confederates in the Civil War\, shedding light on the most common motive for Iowans to serve the C.S.A. — and on the emotional and political pressures in wartime Iowa. \nAfterwards\, I will be available to sign books. \nThere will be numerous presentations by other people.  This event requires an admission fee.  Tickets range from $10 (for students) to $30.
URL:https://www.confederatesfromiowa.com/events/history-camp-iowa-des-moines/
LOCATION:Cowles Library\, Drake University\, 2725 University Ave.\, Des Moines\, IA\, 50311\, United States
END:VEVENT
BEGIN:VEVENT
DTSTART;TZID=UTC:20200215T140000
DTEND;TZID=UTC:20200215T153000
DTSTAMP:20260423T164059
CREATED:20200118T205045Z
LAST-MODIFIED:20200118T205045Z
UID:1459-1581775200-1581780600@www.confederatesfromiowa.com
SUMMARY:Carnegie-Stout Library -- Dubuque\, IA
DESCRIPTION:Twelve Dubuque residents left that city and served the C.S.A.  In this unique presentation\, I plan to read some of their stories from my book\, Iowa Confederates in the Civil War.  The stories will help flesh out the most common motive for Iowans to serve the Confederacy.  The stories will also shed light on family relationships\, and the emotional and political pressures in wartime Dubuque. \nAfterwards\, I will be available to sign books. \n 
URL:https://www.confederatesfromiowa.com/events/carnegie-stout-library-dubuque-ia/
LOCATION:Carnegie-Stout Public Library\, 360 W 11th St.\, Dubuque\, IA\, 52001\, United States
END:VEVENT
BEGIN:VEVENT
DTSTART;TZID=UTC:20200208T130000
DTEND;TZID=UTC:20200208T150000
DTSTAMP:20260423T164059
CREATED:20200118T184357Z
LAST-MODIFIED:20200118T184357Z
UID:1452-1581166800-1581174000@www.confederatesfromiowa.com
SUMMARY:Beaverdale Books\, Des Moines\, IA
DESCRIPTION:If you can’t make my book reading and signing at Woodward Public Library at 10 a.m. on Sat.\, Feb. 8\, 2020\, I invite you to Beaverdale Books\, from 1-3 p.m.  We can talk about my book\, Iowa Confederates in the Civil War\, and I could sign a copy for you.  And there will be refreshments!
URL:https://www.confederatesfromiowa.com/events/beaverdale-books-des-moines-ia/
LOCATION:Beaverdale Books\,\, 2629 Beaver Ave.\, Des Moines\, Iowa\, 50310
END:VEVENT
BEGIN:VEVENT
DTSTART;TZID=UTC:20200208T100000
DTEND;TZID=UTC:20200208T120000
DTSTAMP:20260423T164059
CREATED:20200117T232501Z
LAST-MODIFIED:20200117T232640Z
UID:1447-1581156000-1581163200@www.confederatesfromiowa.com
SUMMARY:Woodward Public Library -- Woodward\, IA
DESCRIPTION:I invite you to attend this special event.  I plan to read stories from Iowa Confederates in the Civil War.  These stories will help flesh out the most common motive for Iowans to serve the Confederacy.  The stories will also shed light on family relationships\, and the emotional and political pressures in wartime Iowa. \nAfterwards\, I will be available to sign books.
URL:https://www.confederatesfromiowa.com/events/woodward-public-library/
LOCATION:Woodward\, Iowa Public Library\, 118 S. Main\, Woodward\, IA\, 50276\, United States
END:VEVENT
BEGIN:VEVENT
DTSTART;TZID=UTC:20200204T190000
DTEND;TZID=UTC:20200204T210000
DTSTAMP:20260423T164059
CREATED:20200118T203120Z
LAST-MODIFIED:20200118T203120Z
UID:1456-1580842800-1580850000@www.confederatesfromiowa.com
SUMMARY:Hearst Center for the Arts -- Cedar Falls\, IA
DESCRIPTION:I plan to do a special reading from Iowa Confederates in the Civil War.  The stories will help flesh out the most common motive for Iowans to serve the Confederacy.  The stories will also shed light on family relationships\, and the emotional and political pressures in wartime Iowa. \nAfterwards\, I will be available to sign books.
URL:https://www.confederatesfromiowa.com/events/hearst-center-for-the-arts-cedar-falls-ia/
LOCATION:Hearst Center for the Arts\, 304 W Seerley Blvd.\, Cedar Falls\, IA\, 50613\, United States
END:VEVENT
BEGIN:VEVENT
DTSTART;TZID=UTC:20200121T180000
DTEND;TZID=UTC:20200121T190000
DTSTAMP:20260423T164059
CREATED:20191230T040349Z
LAST-MODIFIED:20191230T040349Z
UID:1439-1579629600-1579633200@www.confederatesfromiowa.com
SUMMARY:Hull Public Library -- Humanities Iowa
DESCRIPTION:I plan to do a special reading of stories from Iowa Confederates in the Civil War.  The stories will help flesh out the most common motive for Iowans to serve the Confederacy.  The stories will also shed light on ramifications for family relationships\, and the emotional and political pressures in wartime Iowa. \nAfterwards\, I will be available to sign books.
URL:https://www.confederatesfromiowa.com/events/hull-public-library-humanities-iowa/
LOCATION:Hull Public Library\, 1408 Main St\,\, Hull\, IA\, 51239\, United States
END:VEVENT
BEGIN:VEVENT
DTSTART;TZID=UTC:20200110T120000
DTEND;TZID=UTC:20200110T130000
DTSTAMP:20260423T164059
CREATED:20191230T035159Z
LAST-MODIFIED:20191230T035159Z
UID:1435-1578657600-1578661200@www.confederatesfromiowa.com
SUMMARY:Civil War Museum\, Kenosha\, WI
DESCRIPTION:“Iowa Confederates:  The Forgotten Iowans of the Civil War” \nI plan to discuss the motives of 76 Iowa residents who served the C.S.A. and ways in which they were shadow images of their Union counterparts.  I will also share statistics on the number of Iowans who returned to the state after Appomattox.  In addition\, I will give insights into wartime Iowa\, in particular\, the State Republican Party’s propaganda campaign. \nThis event is part of the 2nd Friday Lecture Series\, and it is sponsored by the Milwaukee Civil War Round Table and Iron Brigade Association.
URL:https://www.confederatesfromiowa.com/events/civil-war-museum-kenosha-wi/
LOCATION:The Civil War Museum\, 5400 First Avenue\, Kenosha\, WI\, 53140\, United States
END:VEVENT
BEGIN:VEVENT
DTSTART;TZID=UTC:20200107T110000
DTEND;TZID=UTC:20200107T120000
DTSTAMP:20260423T164059
CREATED:20191230T033748Z
LAST-MODIFIED:20191230T033748Z
UID:1432-1578394800-1578398400@www.confederatesfromiowa.com
SUMMARY:Older\, Wiser\, Livelier Seniors -- Granger\, IA -- Humanities Iowa
DESCRIPTION:I plan to give the presentation “Josiah Bushnell Grinnell and the Iowa Underground Railroad” to the OWLS group (Older\, Wiser\, Livelier Seniors) at the Jester Park Lodge in Granger\, Iowa.
URL:https://www.confederatesfromiowa.com/events/older-wiser-livelier-seniors-granger-ia-humanities-iowa/
LOCATION:Jester Park Lodge\, 11121 NW Jester Park Drive\, Granger\, IA\, 50109\, United States
END:VEVENT
BEGIN:VEVENT
DTSTART;TZID=UTC:20200106T183000
DTEND;TZID=UTC:20200106T193000
DTSTAMP:20260423T164059
CREATED:20191230T032446Z
LAST-MODIFIED:20191230T040828Z
UID:1428-1578335400-1578339000@www.confederatesfromiowa.com
SUMMARY:Hiawatha Public Library -- Humanities Iowa
DESCRIPTION:I plan to do a special reading of stories from Iowa Confederates in the Civil War.  The stories will help flesh out the most common motive for Iowans to serve the Confederacy.  The stories will also shed light on ramifications for family relationships\, and the emotional and political pressures in wartime Iowa. \nAfterwards\, I will be available to sign books.
URL:https://www.confederatesfromiowa.com/events/hiawatha-public-library-humanities-iowa/
LOCATION:Hiawatha Public Library\, 150 W. Willman St.\, Hiawatha\, IA\, 52233\, United States
CATEGORIES:Book Signing
END:VEVENT
BEGIN:VEVENT
DTSTART;TZID=UTC:20200103T193000
DTEND;TZID=UTC:20200103T210000
DTSTAMP:20260423T164059
CREATED:20191230T025225Z
LAST-MODIFIED:20191230T040622Z
UID:1423-1578079800-1578085200@www.confederatesfromiowa.com
SUMMARY:Northern Illinois Civil War Round Table -- Arlington Heights
DESCRIPTION:I plan to speak on “Five stories to flesh out the most common motive of Iowans who served the Confederacy.”  The stories will also shed light on ramifications for family relationships and the emotional and political pressures in Iowa during the war. \nAt 5 p.m\, the Round Table will have dinner at Sam’s of Arlington at 1863 West Central\, Arlington Heights\, IL. \nAt 7:45 p.m.\, I’m scheduled to give my presentation at the Arlington Heights Historical Museum\, 110 West Fremont Street\, Arlington Heights.   Afterwards\, I will be available to sell and sign books.
URL:https://www.confederatesfromiowa.com/events/northern-illinois-civil-war-round-table/
LOCATION:Arlington Heights Historical Museum\, 110 West Fremont Street\, Arlington Heights\, IL\, 60004\, United States
CATEGORIES:Book Signing
END:VEVENT
BEGIN:VEVENT
DTSTART;TZID=UTC:20191120T180000
DTEND;TZID=UTC:20191120T190000
DTSTAMP:20260423T164059
CREATED:20191029T153548Z
LAST-MODIFIED:20191029T153548Z
UID:1404-1574272800-1574276400@www.confederatesfromiowa.com
SUMMARY:Gibson Memorial Library\, Creston\, Iowa
DESCRIPTION:Author talk\, drawing upon my new book\, Iowa Confederates in the Civil War\, followed by a book signing.
URL:https://www.confederatesfromiowa.com/events/gibson-memorial-library-creston-iowa/
LOCATION:Gibson Memorial Library\, 200 W. Howard\, Creston\, IA\, 50801\, United States
END:VEVENT
BEGIN:VEVENT
DTSTART;TZID=UTC:20191112T190000
DTEND;TZID=UTC:20191112T200000
DTSTAMP:20260423T164059
CREATED:20191029T152422Z
LAST-MODIFIED:20191029T152422Z
UID:1401-1573585200-1573588800@www.confederatesfromiowa.com
SUMMARY:Drake Community Library\, Grinnell
DESCRIPTION:Author talk\, drawing upon my new book\, Iowa Confederates in the Civil War\, followed by a book signing.
URL:https://www.confederatesfromiowa.com/events/drake-community-library-grinnell/
LOCATION:Drake Community Library\, 930 Park St.\, Grinnell\, IA\, 50112\, United States
END:VEVENT
BEGIN:VEVENT
DTSTART;TZID=UTC:20191111T183000
DTEND;TZID=UTC:20191111T193000
DTSTAMP:20260423T164059
CREATED:20191029T151356Z
LAST-MODIFIED:20191029T151441Z
UID:1397-1573497000-1573500600@www.confederatesfromiowa.com
SUMMARY:The Artisan Gallery\, West Des Moines
DESCRIPTION:Book reading and signing
URL:https://www.confederatesfromiowa.com/events/the-artisan-gallery/
LOCATION:The Artisan Gallery\, 218 5th St.\, West Des Moines\, IA\, 50265\, United States
END:VEVENT
BEGIN:VEVENT
DTSTART;TZID=UTC:20191106T191500
DTEND;TZID=UTC:20191106T203000
DTSTAMP:20260423T164059
CREATED:20191029T150743Z
LAST-MODIFIED:20191029T150743Z
UID:1394-1573067700-1573072200@www.confederatesfromiowa.com
SUMMARY:Des Moines Civil War Round Table
DESCRIPTION:At the end of the program\, I plan to have a book signing. \nSchedule: \nMeal at 6:30 p.m. followed at 7:15 p.m. by Patrick Hoehne (U of Neb-Lincoln) giving the program\, “Mapping the Causes & Violence of the New York City Draft Riots of 1863.”  Afterwards\, I will sell and sign books.
URL:https://www.confederatesfromiowa.com/events/des-moines-civil-war-round-table/
LOCATION:Machine Shed Restaurant\, 11151 Hickman Rd.\, Urbandale\, IA\, 50322\, United States
END:VEVENT
BEGIN:VEVENT
DTSTART;TZID=UTC:20191104T180000
DTEND;TZID=UTC:20191104T190000
DTSTAMP:20260423T164059
CREATED:20191029T145639Z
LAST-MODIFIED:20191029T145639Z
UID:1390-1572890400-1572894000@www.confederatesfromiowa.com
SUMMARY:Winterset Public Library -- Humanities Iowa event
DESCRIPTION:I will give a presentation\, drawing from my new book\, Iowa Confederates in the Civil War.  Afterwards\, there will be a  book signing.
URL:https://www.confederatesfromiowa.com/events/winterset-public-library-humanities-iowa-event/
LOCATION:Winterset Public Library\, 123 N 2nd St\,\, Winterset\, 50273\, United States
END:VEVENT
BEGIN:VEVENT
DTSTART;TZID=UTC:20191030T173000
DTEND;TZID=UTC:20191030T193000
DTSTAMP:20260423T164059
CREATED:20191010T025346Z
LAST-MODIFIED:20191010T025346Z
UID:1377-1572456600-1572463800@www.confederatesfromiowa.com
SUMMARY:Phi Alpha Theta\, Drake University
DESCRIPTION:The public is invited to my presentation to Phi Alpha Theta\, the history honors society at Drake University.  A reception at 5:30 p.m.  will be followed by the presentation at 6 p.m.  in the Cowles Library Reading Room.
URL:https://www.confederatesfromiowa.com/events/phi-alpha-theta-drake-university/
LOCATION:Cowles Library Reading Room\, Drake University\, 2507 University Ave.\, Des Moines\, IA\, 50311\, United States
END:VEVENT
BEGIN:VEVENT
DTSTART;TZID=UTC:20191024T183000
DTEND;TZID=UTC:20191024T200000
DTSTAMP:20260423T164059
CREATED:20191008T152518Z
LAST-MODIFIED:20191008T152518Z
UID:1374-1571941800-1571947200@www.confederatesfromiowa.com
SUMMARY:Missouri Valley Public Library -- Humanities Iowa
DESCRIPTION:I plan to present “Josiah Bushnell Grinnell and the Iowa Underground Railroad.” \nProgram summary \n“Preacher\,” “congressman\,” “negro-stealer”:  Josiah Bushnell Grinnell was called all of those things during his life. He was called a negro-stealer because he participated in the Iowa Underground Railroad. J.B. Grinnell and other Grinnell residents helped at least 37 fugitive slaves who passed through their town the Civil War. But some residents opposed this work. David Connon will tell a story of racism\, noble actions and conflict. He will highlight abolitionist John Brown’s visit to Grinnell\, and Grinnell’s first riot over the presence of fugitive slaves in the public school.
URL:https://www.confederatesfromiowa.com/events/missouri-valley-public-library-humanities-iowa/
LOCATION:Missouri Valley Public Library\, 420 E. Huron St.\, Missouri Valley\, IA\, 51555\, United States
END:VEVENT
BEGIN:VEVENT
DTSTART;TZID=UTC:20191019T090000
DTEND;TZID=UTC:20191019T113000
DTSTAMP:20260423T164059
CREATED:20191008T150147Z
LAST-MODIFIED:20191008T150147Z
UID:1369-1571475600-1571484600@www.confederatesfromiowa.com
SUMMARY:Ankeny Writers Group
DESCRIPTION:I plan to discuss the following topics: \nI.  Research; \n2. Books that helped me write and revise my book; \n3. The best book that helped me persevere; \n4.  One or two historical sketch excerpts from Iowa Confederates in the Civil War.
URL:https://www.confederatesfromiowa.com/events/ankeny-writers-group/
LOCATION:Kirkendall Public Library\, 1210 N.W. Prairie Ridge Dr.\, Ankeny\, IA\, 50021\, United States
END:VEVENT
BEGIN:VEVENT
DTSTART;TZID=UTC:20191017T190000
DTEND;TZID=UTC:20191017T203000
DTSTAMP:20260423T164059
CREATED:20191008T151601Z
LAST-MODIFIED:20191008T151601Z
UID:1366-1571338800-1571344200@www.confederatesfromiowa.com
SUMMARY:Cedar Valley Civil War Round Table
DESCRIPTION:
URL:https://www.confederatesfromiowa.com/events/cedar-valley-civil-war-round-table/
LOCATION:Veterans Memorial Hall\, 104 W. Fifth Street\, Waterloo\, IA\, United States
CATEGORIES:Book Signing
END:VEVENT
BEGIN:VEVENT
DTSTART;TZID=UTC:20191006T140000
DTEND;TZID=UTC:20191006T150000
DTSTAMP:20260423T164059
CREATED:20191001T191156Z
LAST-MODIFIED:20191001T191156Z
UID:1362-1570370400-1570374000@www.confederatesfromiowa.com
SUMMARY:Hoover Presidential Library and Museum
DESCRIPTION:I will tell stories from my new book\, Iowa Confederates in the Civil War\, and then I will sign books. \nThere is an admission fee: \n$10 for Adults (ages 16-61); \n$5 for Seniors (ages 62 and over)\, Active/Retired Military with ID\, and College Students with ID; \n$3 for Children (ages 6-15); \nFree Admission for Children (ages 5 and under) and Hoover Presidential Foundation Members.
URL:https://www.confederatesfromiowa.com/events/hoover-presidential-library-and-museum/
LOCATION:Herbert Hoover Presidential Library and Museum\, 210 Parkside Drive\, West Branch\, IA\, 52358\, United States
END:VEVENT
BEGIN:VEVENT
DTSTART;TZID=UTC:20190930T180000
DTEND;TZID=UTC:20190930T190000
DTSTAMP:20260423T164059
CREATED:20190918T113734Z
LAST-MODIFIED:20190918T113734Z
UID:1345-1569866400-1569870000@www.confederatesfromiowa.com
SUMMARY:Book signing
DESCRIPTION:
URL:https://www.confederatesfromiowa.com/events/book-signing/
LOCATION:Earlham Public Library\, 120 S. Chestnut St.\, Earlham\, IA\, 50072
ORGANIZER;CN="":MAILTO:davidconnon523@gmail.com
END:VEVENT
END:VCALENDAR