BEGIN:VCALENDAR
VERSION:2.0
PRODID:-//Confederates from Iowa: - ECPv6.15.20//NONSGML v1.0//EN
CALSCALE:GREGORIAN
METHOD:PUBLISH
X-WR-CALNAME:Confederates from Iowa:
X-ORIGINAL-URL:https://www.confederatesfromiowa.com
X-WR-CALDESC:Events for Confederates from Iowa:
REFRESH-INTERVAL;VALUE=DURATION:PT1H
X-Robots-Tag:noindex
X-PUBLISHED-TTL:PT1H
BEGIN:VTIMEZONE
TZID:UTC
BEGIN:STANDARD
TZOFFSETFROM:+0000
TZOFFSETTO:+0000
TZNAME:UTC
DTSTART:20180101T000000
END:STANDARD
END:VTIMEZONE
BEGIN:VEVENT
DTSTART;TZID=UTC:20240618T100000
DTEND;TZID=UTC:20240618T113000
DTSTAMP:20260423T201116
CREATED:20240616T015737Z
LAST-MODIFIED:20240616T015737Z
UID:1860-1718704800-1718710200@www.confederatesfromiowa.com
SUMMARY:
DESCRIPTION:I invite you to hear me speak about “Iowans Who Fought Against the Union” this Tuesday\, June 18 at 10 a.m. at the Adel Public Library\, 303 South 10th Street Adel IA. Afterwards\, I plan to sign copies of my book\, Iowa Confederates in the Civil War.
URL:https://www.confederatesfromiowa.com/events/1860/
LOCATION:Adel Public Library\, 303 South 10th Street\, Adel\, IA\, 50003\, United States
CATEGORIES:Book Signing,PowerPoint Presentation
END:VEVENT
BEGIN:VEVENT
DTSTART;TZID=UTC:20200106T183000
DTEND;TZID=UTC:20200106T193000
DTSTAMP:20260423T201116
CREATED:20191230T032446Z
LAST-MODIFIED:20191230T040828Z
UID:1428-1578335400-1578339000@www.confederatesfromiowa.com
SUMMARY:Hiawatha Public Library -- Humanities Iowa
DESCRIPTION:I plan to do a special reading of stories from Iowa Confederates in the Civil War.  The stories will help flesh out the most common motive for Iowans to serve the Confederacy.  The stories will also shed light on ramifications for family relationships\, and the emotional and political pressures in wartime Iowa. \nAfterwards\, I will be available to sign books.
URL:https://www.confederatesfromiowa.com/events/hiawatha-public-library-humanities-iowa/
LOCATION:Hiawatha Public Library\, 150 W. Willman St.\, Hiawatha\, IA\, 52233\, United States
CATEGORIES:Book Signing
END:VEVENT
BEGIN:VEVENT
DTSTART;TZID=UTC:20200103T193000
DTEND;TZID=UTC:20200103T210000
DTSTAMP:20260423T201116
CREATED:20191230T025225Z
LAST-MODIFIED:20191230T040622Z
UID:1423-1578079800-1578085200@www.confederatesfromiowa.com
SUMMARY:Northern Illinois Civil War Round Table -- Arlington Heights
DESCRIPTION:I plan to speak on “Five stories to flesh out the most common motive of Iowans who served the Confederacy.”  The stories will also shed light on ramifications for family relationships and the emotional and political pressures in Iowa during the war. \nAt 5 p.m\, the Round Table will have dinner at Sam’s of Arlington at 1863 West Central\, Arlington Heights\, IL. \nAt 7:45 p.m.\, I’m scheduled to give my presentation at the Arlington Heights Historical Museum\, 110 West Fremont Street\, Arlington Heights.   Afterwards\, I will be available to sell and sign books.
URL:https://www.confederatesfromiowa.com/events/northern-illinois-civil-war-round-table/
LOCATION:Arlington Heights Historical Museum\, 110 West Fremont Street\, Arlington Heights\, IL\, 60004\, United States
CATEGORIES:Book Signing
END:VEVENT
BEGIN:VEVENT
DTSTART;TZID=UTC:20191017T190000
DTEND;TZID=UTC:20191017T203000
DTSTAMP:20260423T201116
CREATED:20191008T151601Z
LAST-MODIFIED:20191008T151601Z
UID:1366-1571338800-1571344200@www.confederatesfromiowa.com
SUMMARY:Cedar Valley Civil War Round Table
DESCRIPTION:
URL:https://www.confederatesfromiowa.com/events/cedar-valley-civil-war-round-table/
LOCATION:Veterans Memorial Hall\, 104 W. Fifth Street\, Waterloo\, IA\, United States
CATEGORIES:Book Signing
END:VEVENT
END:VCALENDAR